checkResults

Function

If all results failed, throw an error otherwise return the results

Parameters

Parameter Type Default Notes
results Required Array<IEditFeatureErrorResponse | IEditFeatureResult>

Returns

IEditFeatureErrorResponse[] | IEditFeatureResult[]

Function defined in packages/annotations/src/util.ts:87